BEGIN:VCALENDAR
VERSION:2.0
PRODID:-//Mass Gymnastics Center | Sudbury Location - ECPv6.15.16//NONSGML v1.0//EN
CALSCALE:GREGORIAN
METHOD:PUBLISH
X-WR-CALNAME:Mass Gymnastics Center | Sudbury Location
X-ORIGINAL-URL:https://massgymnastics.com/sudbury
X-WR-CALDESC:Events for Mass Gymnastics Center | Sudbury Location
REFRESH-INTERVAL;VALUE=DURATION:PT1H
X-Robots-Tag:noindex
X-PUBLISHED-TTL:PT1H
BEGIN:VTIMEZONE
TZID:UTC
BEGIN:STANDARD
TZOFFSETFROM:+0000
TZOFFSETTO:+0000
TZNAME:UTC
DTSTART:20170101T000000
END:STANDARD
END:VTIMEZONE
BEGIN:VEVENT
DTSTART;VALUE=DATE:20181215
DTEND;VALUE=DATE:20181216
DTSTAMP:20260420T044205
CREATED:20180723T185216Z
LAST-MODIFIED:20180723T185238Z
UID:714-1544832000-1544918399@massgymnastics.com
SUMMARY:Fall Session Ends
DESCRIPTION:
URL:https://massgymnastics.com/sudbury/event/fall-session-ends/
CATEGORIES:Local,Main
END:VEVENT
END:VCALENDAR